BEGIN:VCALENDAR
VERSION:2.0
PRODID:-//PlanOrg - Die Firma hinter principa und BI.healthcare - ECPv6.15.20//NONSGML v1.0//EN
CALSCALE:GREGORIAN
METHOD:PUBLISH
X-WR-CALNAME:PlanOrg - Die Firma hinter principa und BI.healthcare
X-ORIGINAL-URL:https://www.planorg.de
X-WR-CALDESC:Veranstaltungen für PlanOrg - Die Firma hinter principa und BI.healthcare
REFRESH-INTERVAL;VALUE=DURATION:PT1H
X-Robots-Tag:noindex
X-PUBLISHED-TTL:PT1H
BEGIN:VTIMEZONE
TZID:Europe/Berlin
BEGIN:DAYLIGHT
TZOFFSETFROM:+0100
TZOFFSETTO:+0200
TZNAME:CEST
DTSTART:20240331T010000
END:DAYLIGHT
BEGIN:STANDARD
TZOFFSETFROM:+0200
TZOFFSETTO:+0100
TZNAME:CET
DTSTART:20241027T010000
END:STANDARD
BEGIN:DAYLIGHT
TZOFFSETFROM:+0100
TZOFFSETTO:+0200
TZNAME:CEST
DTSTART:20250330T010000
END:DAYLIGHT
BEGIN:STANDARD
TZOFFSETFROM:+0200
TZOFFSETTO:+0100
TZNAME:CET
DTSTART:20251026T010000
END:STANDARD
BEGIN:DAYLIGHT
TZOFFSETFROM:+0100
TZOFFSETTO:+0200
TZNAME:CEST
DTSTART:20260329T010000
END:DAYLIGHT
BEGIN:STANDARD
TZOFFSETFROM:+0200
TZOFFSETTO:+0100
TZNAME:CET
DTSTART:20261025T010000
END:STANDARD
END:VTIMEZONE
BEGIN:VEVENT
DTSTART;TZID=Europe/Berlin:20251029T000000
DTEND;TZID=Europe/Berlin:20251029T000000
DTSTAMP:20260425T003607
CREATED:20250806T060956Z
LAST-MODIFIED:20251029T095206Z
UID:2267-1761696000-1761696000@www.planorg.de
SUMMARY:SPZ Webinar
DESCRIPTION:Einladung zum principa SPZ-Webinar\n\nThema: Herausforderungen von SPZ-Ärzten & Lösungsansätze mit principa\nDatum: 26. März 2025 | ⏰ Uhrzeit: 12:00 – 13:30 Uhr |  Online \n\n\nLiebe SPZ-Expert:innen\, \ndie tägliche Arbeit in sozialpädiatrischen Zentren (SPZ) ist anspruchsvoll: steigende Anforderungen\, komplexe Dokumentationspflichten und ein hoher administrativer Aufwand prägen den Alltag. Doch wie können wir diese Herausforderungen effizient bewältigen? \nIn unserem SPZ-Webinar tauschen wir uns mit Fachkollegen aus und werfen einen praxisnahen Blick auf die wichtigsten Herausforderungen und Lösungsansätze – insbesondere mit unserer principa SPZ-Software. \nDas erwartet Sie:\n✅ Aktuelle Herausforderungen in sozialpädiatrischen Zentren\n✅ Best Practices & digitale Lösungen mit principa\n✅ Praxisnaher Austausch mit Experten \nWer nicht am Webinar teilnehmen kann\, hat die Möglichkeit\, uns auf der DMEA 2025 zu treffen. \nAnmelden können Sie sich hier: www.planorg.de/dmea \nFreiticket sichern: Schreiben Sie einfach „SPZ Freiticket“ in den Kommentar bei der Anmeldung. \n\nMi\, 26. März 2025 12:00 – 13:30 (UTC+01:00) Amsterdam\, Berlin\, Bern\, Rom\, Stockholm\, Wien
URL:https://www.planorg.de/veranstaltung/spz-webinar/
END:VEVENT
END:VCALENDAR