BEGIN:VCALENDAR
VERSION:2.0
PRODID:-//PlanOrg - Die Firma hinter principa und BI.healthcare - ECPv6.15.20//NONSGML v1.0//EN
CALSCALE:GREGORIAN
METHOD:PUBLISH
X-WR-CALNAME:PlanOrg - Die Firma hinter principa und BI.healthcare
X-ORIGINAL-URL:https://www.planorg.de
X-WR-CALDESC:Veranstaltungen für PlanOrg - Die Firma hinter principa und BI.healthcare
REFRESH-INTERVAL;VALUE=DURATION:PT1H
X-Robots-Tag:noindex
X-PUBLISHED-TTL:PT1H
BEGIN:VTIMEZONE
TZID:Europe/Berlin
BEGIN:DAYLIGHT
TZOFFSETFROM:+0100
TZOFFSETTO:+0200
TZNAME:CEST
DTSTART:20250330T010000
END:DAYLIGHT
BEGIN:STANDARD
TZOFFSETFROM:+0200
TZOFFSETTO:+0100
TZNAME:CET
DTSTART:20251026T010000
END:STANDARD
BEGIN:DAYLIGHT
TZOFFSETFROM:+0100
TZOFFSETTO:+0200
TZNAME:CEST
DTSTART:20260329T010000
END:DAYLIGHT
BEGIN:STANDARD
TZOFFSETFROM:+0200
TZOFFSETTO:+0100
TZNAME:CET
DTSTART:20261025T010000
END:STANDARD
BEGIN:DAYLIGHT
TZOFFSETFROM:+0100
TZOFFSETTO:+0200
TZNAME:CEST
DTSTART:20270328T010000
END:DAYLIGHT
BEGIN:STANDARD
TZOFFSETFROM:+0200
TZOFFSETTO:+0100
TZNAME:CET
DTSTART:20271031T010000
END:STANDARD
END:VTIMEZONE
BEGIN:VEVENT
DTSTART;TZID=Europe/Berlin:20260121T120000
DTEND;TZID=Europe/Berlin:20260121T150000
DTSTAMP:20260421T122955
CREATED:20251203T135750Z
LAST-MODIFIED:20260106T143734Z
UID:3747-1768996800-1769007600@www.planorg.de
SUMMARY:Seminar: principa Reports sicher beherrschen
DESCRIPTION:Am 21.01.2026 wollen wir Ihnen einen kompakten und praxisorientierten Überblick über die essentiellen Funktionen und Arbeitsweisen von principa Reports geben. Diese Schulung ist ideal für all diejenigen\, die ihre Auswertungen in principa künftig sicherer\, schneller und strukturierter erstellen möchten. \n\n📅 Details:\n\n\nDatum: 21. Januar 2026\, 12:00 – 15:00 Uhr (Online via Microsoft Teams) \n\nTeilnahmegebühr: 380\,- € zzgl. MwSt. pro Person (inkl. Seminarunterlagen & Teilnahmezertifikat)\nStornierung: kostenfrei bis 14.01.2026\, danach 20 % der Teilnahmegebühr\n\n🎁 Frühbucherrabatt: \n\n10 % bei Anmeldung bis zum 22.12.2025
URL:https://www.planorg.de/veranstaltung/seminar-principa-reports-sicher-beherrschen/
CATEGORIES:Online
ATTACH;FMTTYPE=image/png:https://www.planorg.de/wp-content/uploads/2025/12/Schulung-principa-Reports-sicher-beherrschen.png
END:VEVENT
END:VCALENDAR