BEGIN:VCALENDAR
VERSION:2.0
PRODID:-//PlanOrg - Die Firma hinter principa und BI.healthcare - ECPv6.15.20//NONSGML v1.0//EN
CALSCALE:GREGORIAN
METHOD:PUBLISH
X-WR-CALNAME:PlanOrg - Die Firma hinter principa und BI.healthcare
X-ORIGINAL-URL:https://www.planorg.de
X-WR-CALDESC:Veranstaltungen für PlanOrg - Die Firma hinter principa und BI.healthcare
REFRESH-INTERVAL;VALUE=DURATION:PT1H
X-Robots-Tag:noindex
X-PUBLISHED-TTL:PT1H
BEGIN:VTIMEZONE
TZID:Europe/Berlin
BEGIN:DAYLIGHT
TZOFFSETFROM:+0100
TZOFFSETTO:+0200
TZNAME:CEST
DTSTART:20250330T010000
END:DAYLIGHT
BEGIN:STANDARD
TZOFFSETFROM:+0200
TZOFFSETTO:+0100
TZNAME:CET
DTSTART:20251026T010000
END:STANDARD
BEGIN:DAYLIGHT
TZOFFSETFROM:+0100
TZOFFSETTO:+0200
TZNAME:CEST
DTSTART:20260329T010000
END:DAYLIGHT
BEGIN:STANDARD
TZOFFSETFROM:+0200
TZOFFSETTO:+0100
TZNAME:CET
DTSTART:20261025T010000
END:STANDARD
BEGIN:DAYLIGHT
TZOFFSETFROM:+0100
TZOFFSETTO:+0200
TZNAME:CEST
DTSTART:20270328T010000
END:DAYLIGHT
BEGIN:STANDARD
TZOFFSETFROM:+0200
TZOFFSETTO:+0100
TZNAME:CET
DTSTART:20271031T010000
END:STANDARD
END:VTIMEZONE
BEGIN:VEVENT
DTSTART;TZID=Europe/Berlin:20260917T100000
DTEND;TZID=Europe/Berlin:20260917T100000
DTSTAMP:20260425T033158
CREATED:20260323T151530Z
LAST-MODIFIED:20260323T143159Z
UID:960-1789639200-1789639200@www.planorg.de
SUMMARY:HealthCare.IT Camp 2026
DESCRIPTION:Information\, Inspiration und Networking rund um Healthcare.IT und  principa. \nOb in Vorträgen\, Workshops oder beim Austausch mit Branchenexperten – das IT.Camp bietet eine umfassende Plattform für Wissensaustausch und berufliche Weiterentwicklung. Erleben Sie spannende Einblicke und innovative Lösungen in der Orangerie Kassel.
URL:https://www.planorg.de/veranstaltung/healthcare-it-camp-2026/
LOCATION:Orangerie Kassel
ATTACH;FMTTYPE=image/png:https://www.planorg.de/wp-content/uploads/2026/03/IT-Camp-2026-scaled.png
END:VEVENT
END:VCALENDAR