BEGIN:VCALENDAR
VERSION:2.0
PRODID:-//PlanOrg - Die Firma hinter principa und BI.healthcare - ECPv6.15.20//NONSGML v1.0//EN
CALSCALE:GREGORIAN
METHOD:PUBLISH
X-WR-CALNAME:PlanOrg - Die Firma hinter principa und BI.healthcare
X-ORIGINAL-URL:https://www.planorg.de
X-WR-CALDESC:Veranstaltungen für PlanOrg - Die Firma hinter principa und BI.healthcare
REFRESH-INTERVAL;VALUE=DURATION:PT1H
X-Robots-Tag:noindex
X-PUBLISHED-TTL:PT1H
BEGIN:VTIMEZONE
TZID:Europe/Berlin
BEGIN:DAYLIGHT
TZOFFSETFROM:+0100
TZOFFSETTO:+0200
TZNAME:CEST
DTSTART:20250330T010000
END:DAYLIGHT
BEGIN:STANDARD
TZOFFSETFROM:+0200
TZOFFSETTO:+0100
TZNAME:CET
DTSTART:20251026T010000
END:STANDARD
BEGIN:DAYLIGHT
TZOFFSETFROM:+0100
TZOFFSETTO:+0200
TZNAME:CEST
DTSTART:20260329T010000
END:DAYLIGHT
BEGIN:STANDARD
TZOFFSETFROM:+0200
TZOFFSETTO:+0100
TZNAME:CET
DTSTART:20261025T010000
END:STANDARD
BEGIN:DAYLIGHT
TZOFFSETFROM:+0100
TZOFFSETTO:+0200
TZNAME:CEST
DTSTART:20270328T010000
END:DAYLIGHT
BEGIN:STANDARD
TZOFFSETFROM:+0200
TZOFFSETTO:+0100
TZNAME:CET
DTSTART:20271031T010000
END:STANDARD
END:VTIMEZONE
BEGIN:VEVENT
DTSTART;TZID=Europe/Berlin:20260421T000000
DTEND;TZID=Europe/Berlin:20260423T000000
DTSTAMP:20260424T174010
CREATED:20250806T060954Z
LAST-MODIFIED:20260121T094234Z
UID:2257-1776729600-1776902400@www.planorg.de
SUMMARY:DMEA
DESCRIPTION:Besuchen Sie uns vom 21.-23. April 2026 auf der DMEA – eine der bedeutendsten Messen Europas für Digital Health! \nHier Termin buchen
URL:https://www.planorg.de/veranstaltung/dmea/
LOCATION:Messe Berlin
ATTACH;FMTTYPE=image/png:https://www.planorg.de/wp-content/uploads/2025/08/DMEA-2026.png
END:VEVENT
END:VCALENDAR