BEGIN:VCALENDAR
VERSION:2.0
PRODID:-//PlanOrg - Die Firma hinter principa und BI.healthcare - ECPv6.15.20//NONSGML v1.0//EN
CALSCALE:GREGORIAN
METHOD:PUBLISH
X-WR-CALNAME:PlanOrg - Die Firma hinter principa und BI.healthcare
X-ORIGINAL-URL:https://www.planorg.de
X-WR-CALDESC:Veranstaltungen für PlanOrg - Die Firma hinter principa und BI.healthcare
REFRESH-INTERVAL;VALUE=DURATION:PT1H
X-Robots-Tag:noindex
X-PUBLISHED-TTL:PT1H
BEGIN:VTIMEZONE
TZID:Europe/Berlin
BEGIN:DAYLIGHT
TZOFFSETFROM:+0100
TZOFFSETTO:+0200
TZNAME:CEST
DTSTART:20240331T010000
END:DAYLIGHT
BEGIN:STANDARD
TZOFFSETFROM:+0200
TZOFFSETTO:+0100
TZNAME:CET
DTSTART:20241027T010000
END:STANDARD
BEGIN:DAYLIGHT
TZOFFSETFROM:+0100
TZOFFSETTO:+0200
TZNAME:CEST
DTSTART:20250330T010000
END:DAYLIGHT
BEGIN:STANDARD
TZOFFSETFROM:+0200
TZOFFSETTO:+0100
TZNAME:CET
DTSTART:20251026T010000
END:STANDARD
BEGIN:DAYLIGHT
TZOFFSETFROM:+0100
TZOFFSETTO:+0200
TZNAME:CEST
DTSTART:20260329T010000
END:DAYLIGHT
BEGIN:STANDARD
TZOFFSETFROM:+0200
TZOFFSETTO:+0100
TZNAME:CET
DTSTART:20261025T010000
END:STANDARD
END:VTIMEZONE
BEGIN:VEVENT
DTSTART;TZID=Europe/Berlin:20251029T000000
DTEND;TZID=Europe/Berlin:20251029T000000
DTSTAMP:20260425T002445
CREATED:20250806T060956Z
LAST-MODIFIED:20251029T095233Z
UID:2269-1761696000-1761696000@www.planorg.de
SUMMARY:ASV verstehen und erfolgreich umsetzen: Appendix-Prüfung und ASV-Abrechnung in principa
DESCRIPTION:Die ambulante spezialfachärztliche Versorgung (ASV) ist ein interdisziplinäres Versorgungsmodell für Patient:innen mit komplexen Erkrankungen – z. B. in der Onkologie\, Rheumatologie\, Kardiologie oder Pneumologie. Sie erfordert ein gut koordiniertes Zusammenspiel von Klinik und Praxis – häufig in größeren MVZ-Strukturen oder in Zusammenarbeit mehrerer Fachrichtungen. \nIn diesem Webinar zeigen wir: \n\nWas es mit dem ASV-Appendix auf sich hat – und wie eine strukturierte Prüfung möglich wird\nWie ist die ASV aufgebaut\, welche Krankheitsbilder und Indikationen sind aktuell enthalten und welche werden bis Ende 2025 noch erwartet?\nAb wann Sie ASV abrechnen dürfen\, welche Diagnosen nötig sind und warum der Einstieg Bundesland-abhängig ist\nWarum ASV Teamarbeit bedeutet – mit bis zu 10–15 Fachrichtungen\nWie Sie ASV-Fälle in principa dokumentieren und organisieren\nVerschiedene Abrechnungsmöglichkeiten für Krankenhaus (301) und MVZ (KV)\n\nDie Teilnahme ist kostenfrei.
URL:https://www.planorg.de/veranstaltung/asv-verstehen-und-erfolgreich-umsetzen-appendix-pruefung-und-asv-abrechnung-in-principa-2/
END:VEVENT
END:VCALENDAR